Workbook

Sheet 제목

Sheet 목차
A2: 목 차
B4: 1. 세입·세출결산서
B5: 1) 세입 · 세출 총괄
B6: 2) 세입
B7: 3) 세출
B8: 4) 증빙서류
B9: 가) 예금잔액 명세서 (통장사본 첨부)
B10: 나) 퇴직적립금현황
B11: 2. 과목전용조서
B12: 3. 예비비 사용조서
B13: 4. 기본재산 수입명세서
B14: 5. 사업수입명세서
B15: 6. 정부보조금명세서
... B19: 10.기타비용명세서

Sheet 1) 세입세출 총괄
A1: 2024년 장애인활동지원사업 세입 · 세출 결산서
A2: 1) 세입· 세출 총괄
F3: (단위 : 원) | L3: (단위 : 원)
A4: 세 입 | G4: 세 출
A5: 관 | B5: 항 | C5: 목 | D5: 예산액 | E5: 결산액 | F5: 증감액 | G5: 관 | H5: 항 | I5: 목 | J5: 예산액 | K5: 결산액 | L5: 증감액
A6: 총계 | D6: =SUM(D7+D10+D13) -> 5559451142 | E6: =SUM(E7+E10+E13) -> 4945308132 | F6: =D6-E6 -> 614143010 | G6: 총계 | J6: =SUM(J7+J22+J26+J29) -> 5327300000 | K6: =SUM(K7+K22+K26+K29+K35) -> 4945308132 | L6: =J6-K6 -> 381991868
A7: 사업수입 | D7: =SUM(D8) -> 5324800000 | E7: =SUM(E8) -> 4707854210 | F7: =D7-E7 -> 616945790 | G7: 사무비 | J7: =SUM(J8+J13+J16) -> 5309486300 | K7: =SUM(K8+K13+K16) -> 4551953267 | L7: =J7-K7 -> 757533033
B8: 사업수입 | D8: =D9 -> 5324800000 | E8: =E9 -> 4707854210 | F8: =D8-E8 -> 616945790 | H8: 인건비 | J8: =SUM(J9:J12) -> 5220342000 | K8: =SUM(K9:K12) -> 4469350649 | L8: =J8-K8 -> 750991351
C9: 사업수입 | D9: 5324800000 | E9: 4707854210 | F9: =D9-E9 -> 616945790 | I9: 급여 | J9: 3210990000 | K9: 2706856046 | L9: =J9-K9 -> 504133954
A10: 이월금 | D10: =D11 -> 232151142 | E10: =E12 -> 232151142 | F10: =D10-E10 -> 0 | I10: 제수당 | J10: 1253160000 | K10: 1173024883 | L10: =J10-K10 -> 80135117
B11: 이월금 | D11: =D12 -> 232151142 | E11: =E12 -> 232151142 | F11: =D11-E11 -> 0 | I11: 퇴직금 및 퇴직적립금 | J11: 372012000 | K11: 308541640 | L11: =J11-K11 -> 63470360
C12: 전년도이월금 | D12: 232151142 | E12: 232151142 | F12: =D12-E12 -> 0 | I12: 사회보험부담비용 | J12: 384180000 | K12: 280928080 | L12: =J12-K12 -> 103251920
A13: 잡수입 | D13: =SUM(D14) -> 2500000 | E13: =E14 -> 5302780 | F13: =D13-E13 -> -2802780 | H13: 업무추진비 | J13: =SUM(J14:J15) -> 4400000 | K13: =SUM(K14:K15) -> 4180761 | L13: =J13-K13 -> 219239
B14: 잡수입 | D14: =D15+D16 -> 2500000 | E14: =SUM(E15:E16) -> 5302780 | F14: =D14-E14 -> -2802780 | I14: 기관운영비 | K14: 904700 | L14: =J14-K14 -> -904700
C15: 기타예금이자수입 | D15: 100000 | E15: 190442 | F15: =D15-E15 -> -90442 | I15: 회의비 | J15: 4400000 | K15: 3276061 | L15: =J15-K15 -> 1123939
C16: 기타잡수입(실습비등) | D16: 2400000 | E16: 5112338 | F16: =D16-E16 -> -2712338 | H16: 운영비 | J16: =SUM(J17:J21) -> 84744300 | K16: =SUM(K17:K21) -> 78421857 | L16: =J16-K16 -> 6322443
I17: 여비 | J17: 1200000 | K17: 150000 | L17: =J17-K17 -> 1050000
I18: 수용비 및 수수료 | J18: 13006300 | K18: 17612613 | L18: =J18-K18 -> -4606313
I19: 공공요금및제세공과금 | J19: 16478000 | K19: 11427605 | L19: =J19-K19 -> 5050395
I20: 차량비 | J20: 1200000 | K20: 728409 | L20: =J20-K20 -> 471591
I21: 기타운영비(복리후생,교육훈련) | J21: 52860000 | K21: 48503230 | L21: =J21-K21 -> 4356770
G22: 재산조성비 | J22: =J23 -> 500000 | K22: =K23 -> 1118750 | L22: =J22-K22 -> -618750
H23: 시설비 | J23: =SUM(J24:J25) -> 500000 | K23: =SUM(K24:K25) -> 1118750 | L23: =J23-K23 -> -618750
I24: 자산취득비 | K24: 500000 | L24: =J24-K24 -> -500000
I25: 시설장비유지비 | J25: 500000 | K25: 618750 | L25: =J25-K25 -> -118750
G26: 사업비 | J26: =J27 -> 9600000 | K26: =K27 -> 9960677 | L26: =J26-K26 -> -360677
H27: 사업비 | J27: =SUM(J28:J28) -> 9600000 | K27: =SUM(K28:K28) -> 9960677 | L27: =J27-K27 -> -360677
I28: 이용자복리증진 | J28: 9600000 | K28: 9960677 | L28: =J28-K28 -> -360677
G29: 예비비 및 기타 | J29: =J30 -> 7713700 | K29: =K30 -> 18733910 | L29: =J29-K29 -> -11020210
H30: 예비비 및 기타 | J30: =J31+J32 -> 7713700 | K30: =SUM(K31:K33) -> 18733910 | L30: =J30-K30 -> -11020210
I31: 예비비 | J31: 1713700 | L31: =J31-K31 -> 1713700
I32: 기타잡지출 | J32: 6000000 | K32: 15239690 | L32: =J32-K32 -> -9239690
I33: 반환금 | K33: 3494220 | L33: =J33-K33 -> -3494220
G34: 이월금 | J34: =J35 -> 0 | K34: =SUM(K35) -> 363541528 | L34: =J34-K34 -> -363541528
H35: 이월금 | J35: =J36 -> 0 | K35: =SUM(K36) -> 363541528 | L35: =J35-K35 -> -363541528
I36: 차년도이월금 | K36: 363541528 | L36: =J36-K36 -> -363541528

Sheet 2) 세입 결산
A1: 1. 2023년도 세입 ·세출 결산서
A2: 2)세 입 결 산 서
I3: (단위 :원)
A4: 과목 | E4: 구분 | F4: 정부보조금 | G4: 자부담 (시설부담) | H4: 후원금 | I4: 계
A5: 관 | B5: 항 | C5: 목
A6: 사업수입 | B6: 사업수입 | C6: 수입 | E6: 예산 | G6: ='1) 세입세출 총괄'!D7 -> 5324800000 | H6: 0 | I6: =F6+G6+H6 -> 5324800000
E7: 결산 | G7: ='1) 세입세출 총괄'!E7 -> 4707854210 | H7: 0 | I7: =F7+G7+H7 -> 4707854210
E8: 증감 | F8: =F6-F7 -> 0 | G8: =G6-G7 -> 616945790 | H8: 0 | I8: =F8+G8+H8 -> 616945790
C9: 합 계 | E9: 예산 | F9: =F6 -> 0 | G9: =G6 -> 5324800000 | H9: 0 | I9: =F9+G9+H9 -> 5324800000
E10: 결산 | F10: =F7 -> 0 | G10: =G7 -> 4707854210 | H10: 0 | I10: =F10+G10+H10 -> 4707854210
E11: 증감 | F11: =F8 -> 0 | G11: =G8 -> 616945790 | H11: 0 | I11: =F11+G11+H11 -> 616945790
B12: 합 계 | E12: 예산 | F12: =F9 -> 0 | G12: =G9 -> 5324800000 | H12: 0 | I12: =F12+G12+H12 -> 5324800000
E13: 결산 | F13: =F10 -> 0 | G13: =G10 -> 4707854210 | H13: 0 | I13: =F13+G13+H13 -> 4707854210
E14: 증감 | F14: =F11 -> 0 | G14: =G11 -> 616945790 | H14: 0 | I14: =F14+G14+H14 -> 616945790
A15: 이월금 | B15: 이월금 | C15: 전년도이월금 | E15: 예산 | G15: ='1) 세입세출 총괄'!D10 -> 232151142 | H15: 0 | I15: =F15+G15+H15 -> 232151142
E16: 결산 | G16: ='1) 세입세출 총괄'!E10 -> 232151142 | H16: 0 | I16: =F16+G16+H16 -> 232151142
E17: 증감 | F17: 0 | G17: =G15-G16 -> 0 | H17: 0 | I17: =F17+G17+H17 -> 0
C18: 합 계 | E18: 예산 | F18: =F15 -> 0 | G18: =G15 -> 232151142 | H18: 0 | I18: =F18+G18+H18 -> 232151142
E19: 결산 | F19: =F16 -> 0 | G19: =G16 -> 232151142 | H19: 0 | I19: =F19+G19+H19 -> 232151142
E20: 증감 | F20: 0 | G20: =G17 -> 0 | H20: 0 | I20: =F20+G20+H20 -> 0
B21: 합 계 | E21: 예산 | F21: =F18 -> 0 | G21: =G18 -> 232151142 | H21: 0 | I21: =F21+G21+H21 -> 232151142
E22: 결산 | F22: =F19 -> 0 | G22: =G19 -> 232151142 | H22: 0 | I22: =F22+G22+H22 -> 232151142
E23: 증감 | F23: =F20 -> 0 | G23: =G20 -> 0 | H23: 0 | I23: =F23+G23+H23 -> 0
A24: 잡수입 | B24: 잡수입 | C24: 기타예금 이자수입 | E24: 예산 | G24: ='1) 세입세출 총괄'!D15 -> 100000 | H24: 0 | I24: =F24+G24+H24 -> 100000
E25: 결산 | G25: ='1) 세입세출 총괄'!E15 -> 190442 | H25: 0 | I25: =F25+G25+H25 -> 190442
E26: 증감 | F26: =F24-F25 -> 0 | G26: =G24-G25 -> -90442 | H26: 0 | I26: =F26+G26+H26 -> -90442
C27: 기타잡수입 | E27: 예산 | G27: ='1) 세입세출 총괄'!D16 -> 2400000 | H27: 0 | I27: =F27+G27+H27 -> 2400000
E28: 결산 | G28: ='1) 세입세출 총괄'!E16 -> 5112338 | H28: 0 | I28: =F28+G28+H28 -> 5112338
E29: 증감 | F29: =F27-F28 -> 0 | G29: =G27-G28 -> -2712338 | H29: 0 | I29: =F29+G29+H29 -> -2712338
C30: 합 계 | E30: 예산 | F30: =F24+F27 -> 0 | G30: =G24+G27 -> 2500000 | H30: 0 | I30: =F30+G30+H30 -> 2500000
E31: 결산 | F31: =F25+F28 -> 0 | G31: =G25+G28 -> 5302780 | H31: 0 | I31: =F31+G31+H31 -> 5302780
E32: 증감 | F32: =F26+F29 -> 0 | G32: =G30-G31 -> -2802780 | H32: 0 | I32: =F32+G32+H32 -> -2802780
B33: 합 계 | E33: 예산 | F33: =F30 -> 0 | G33: =G30 -> 2500000 | H33: 0 | I33: =F33+G33+H33 -> 2500000
E34: 결산 | F34: =F31 -> 0 | G34: =G31 -> 5302780 | H34: 0 | I34: =F34+G34+H34 -> 5302780
E35: 증감 | F35: =F32 -> 0 | G35: =G33-G34 -> -2802780 | H35: 0 | I35: =F35+G35+H35 -> -2802780
A36: 총합계 | E36: 예산 | F36: =SUM(F12+F21+F33) -> 0 | G36: =SUM(G12+G21+G33) -> 5559451142 | H36: =SUM(H12+H21+H33) -> 0 | I36: =F36+G36+H36 -> 5559451142
E37: 결산 | F37: =SUM(F13+F22+F34) -> 0 | G37: =SUM(G13+G22+G34) -> 4945308132 | H37: =SUM(H13+H22+H34) -> 0 | I37: =F37+G37+H37 -> 4945308132
E38: 증감 | F38: =F36-F37 -> 0 | G38: =G37-G36 -> -614143010 | H38: =H37-H36 -> 0 | I38: =F38+G38+H38 -> -614143010

Sheet 3) 세출 결산
A1: 3)세 출 결 산 서
H2: (단위 :원)
A3: 과목 | D3: 구분 | E3: 정부 보조금 | F3: 자부담 (시설부담) | G3: 후원금 | H3: 계
A4: 관 | B4: 항 | C4: 목
A5: 사무비 | B5: 인건비 | C5: 급여 | D5: 예산 | F5: ='1) 세입세출 총괄'!J9 -> 3210990000
D6: 결산 | F6: ='1) 세입세출 총괄'!K9 -> 2706856046
D7: 증감 | F7: =F5-F6 -> 504133954
C8: 제수당 | D8: 예산 | F8: ='1) 세입세출 총괄'!J10 -> 1253160000
D9: 결산 | F9: ='1) 세입세출 총괄'!K10 -> 1173024883
D10: 증감 | F10: =F8-F9 -> 80135117
C11: 퇴직금 및 퇴직적립금 | D11: 예산 | F11: ='1) 세입세출 총괄'!J11 -> 372012000
D12: 결산 | F12: ='1) 세입세출 총괄'!K11 -> 308541640
D13: 증감 | F13: =F11-F12 -> 63470360
C14: 사회보험부담비용 | D14: 예산 | F14: ='1) 세입세출 총괄'!J12 -> 384180000
D15: 결산 | F15: ='1) 세입세출 총괄'!K12 -> 280928080
D16: 증감 | F16: =F14-F15 -> 103251920
D17: 예산 | F17: =F5+F8+F11+F14 -> 5220342000
C18: 합 계 | D18: 결산 | F18: =F6+F9+F12+F15 -> 4469350649
D19: 증감 | F19: =F17-F18 -> 750991351
B20: 업무추진비 | C20: 기관운영비 | D20: 예산
D21: 결산 | F21: ='1) 세입세출 총괄'!K14 -> 904700
D22: 증감 | F22: =F20-F21 -> -904700
C23: 회의비 | D23: 예산 | F23: ='1) 세입세출 총괄'!J15 -> 4400000
D24: 결산 | F24: ='1) 세입세출 총괄'!K15 -> 3276061
D25: 증감 | F25: =F23-F24 -> 1123939
C26: 합 계 | D26: 예산 | F26: =F20+F23 -> 4400000
D27: 결산 | F27: =F21+F24 -> 4180761
D28: 증감 | F28: =F26-F27 -> 219239
B29: 운영비 | C29: 여비 | D29: 예산 | F29: ='1) 세입세출 총괄'!J17 -> 1200000
D30: 결산 | F30: ='1) 세입세출 총괄'!K17 -> 150000
D31: 증감 | F31: =F29-F30 -> 1050000
C32: 수용비 및 수수료 | D32: 예산 | F32: ='1) 세입세출 총괄'!J18 -> 13006300
D33: 결산 | F33: ='1) 세입세출 총괄'!K18 -> 17612613
D34: 증감 | F34: =F32-F33 -> -4606313
C35: 제세공과금 | D35: 예산 | F35: ='1) 세입세출 총괄'!J19 -> 16478000
D36: 결산 | F36: ='1) 세입세출 총괄'!K19 -> 11427605
D37: 증감 | F37: =F35-F36 -> 5050395
C38: 차량비 | D38: 예산 | F38: ='1) 세입세출 총괄'!J20 -> 1200000
D39: 결산 | F39: ='1) 세입세출 총괄'!K20 -> 728409
D40: 증감 | F40: =F38-F39 -> 471591
C41: 기타운영비 | D41: 예산 | F41: ='1) 세입세출 총괄'!J21 -> 52860000
D42: 결산 | F42: ='1) 세입세출 총괄'!K21 -> 48503230
D43: 증감 | F43: =F41-F42 -> 4356770
C44: 합 계 | D44: 예산 | F44: =F29+F32+F35+F38+F41 -> 84744300
D45: 결산 | F45: =F30+F33+F36+F39+F42 -> 78421857
D46: 증감 | F46: =F44-F45 -> 6322443
B47: 합 계 | D47: 예산 | F47: =F44 -> 84744300
D48: 결산 | F48: =F45 -> 78421857
D49: 증감 | F49: =F47-F48 -> 6322443
A50: 재산조성비 | C50: 자산취득비 | D50: 예산 | F50: ='1) 세입세출 총괄'!J24 -> 0
D51: 결산 | F51: ='1) 세입세출 총괄'!K24 -> 500000
D52: 증감 | F52: =F50-F51 -> -500000
B53: 시설비 | C53: 시설장비유지비 | D53: 예산 | F53: ='1) 세입세출 총괄'!J25 -> 500000
D54: 결산 | F54: ='1) 세입세출 총괄'!K25 -> 618750
D55: 증감 | F55: =F53-F54 -> -118750
C56: 합 계 | D56: 예산 | F56: =F50+F53 -> 500000
D57: 결산 | F57: =F51+F54 -> 1118750
D58: 증감 | F58: =F56-F57 -> -618750
B59: 합 계 | D59: 예산 | F59: =F56 -> 500000
D60: 결산 | F60: =F57 -> 1118750
D61: 증감 | F61: =F59-F60 -> -618750
A62: 사업비 | B62: 사업비 | C62: 이용자복리증진 | D62: 예산 | F62: ='1) 세입세출 총괄'!J28 -> 9600000
D63: 결산 | F63: ='1) 세입세출 총괄'!K28 -> 9960677
D64: 증감 | F64: =F62-F63 -> -360677
D65: 예산 | F65: =F62 -> 9600000
C66: 합 계 | D66: 결산 | F66: =F63 -> 9960677
D67: 증감 | F67: =F65-F66 -> -360677
B68: 합 계 | D68: 예산 | F68: =F65 -> 9600000
D69: 결산 | F69: =F66 -> 9960677
D70: 증감 | F70: =F68-F69 -> -360677
A71: 예비비 및 기타 | B71: 예비비 및 기타 | C71: 예비비 | D71: 예산 | F71: ='1) 세입세출 총괄'!J31 -> 1713700
D72: 결산 | F72: ='1) 세입세출 총괄'!K31 -> 0
D73: 증감 | F73: =F71-F72 -> 1713700
C74: 잡지출 | D74: 예산 | F74: ='1) 세입세출 총괄'!J32 -> 6000000
D75: 결산 | F75: ='1) 세입세출 총괄'!K32 -> 15239690
D76: 증감 | F76: =F74-F75 -> -9239690
C77: 반환금 | D77: 예산 | F77: ='1) 세입세출 총괄'!J33 -> 0
D78: 결산 | F78: ='1) 세입세출 총괄'!K33 -> 3494220
D79: 증감 | F79: =F77-F78 -> -3494220
D80: 예산 | F80: =F71+F74+F77 -> 7713700
C81: 합 계 | D81: 결산 | F81: =F72+F75+F78 -> 18733910
D82: 증감 | F82: =F80-F81 -> -11020210
B83: 합 계 | D83: 예산 | F83: =F80 -> 7713700
D84: 결산 | F84: =F81 -> 18733910
D85: 증감 | F85: =F83-F84 -> -11020210
A86: 이월금 | B86: 이월금 | C86: 차년도 이월금 | D86: 예산 | F86: ='1) 세입세출 총괄'!J36 -> 0
D87: 결산 | F87: ='1) 세입세출 총괄'!K36 -> 363541528
D88: 증감 | F88: =F86-F87 -> -363541528
D89: 예산 | F89: =F86 -> 0
C90: 합 계 | D90: 결산 | F90: =F87 -> 363541528
D91: 증감 | F91: =F89-F90 -> -363541528
B92: 합 계 | D92: 예산 | F92: =F89 -> 0
D93: 결산 | F93: =F87 -> 363541528
D94: 증감 | F94: =F92-F93 -> -363541528
A95: 총합계 | D95: 예산 | F95: =F92+F83+F68+F59+F47+F26+F17 -> 5327300000
D96: 결산 | F96: =F93+F84+F69+F60+F48+F18+F27 -> 4945308132
D97: 증감 | F97: =F95-F96 -> 381991868

Sheet 4)-가 예금잔액 명세서 
A1: 4) 증빙서류
A2: 가. 예금잔액 명세서 | H2: (단위 : 원)
A3: 회계별 | B3: 예금종류 | C3: 예치은행 | D3: 계좌번호 | E3: 현재잔액 (2023.12.31) | F3: 현재잔액 (2024.12.31) | G3: 증빙번호 | H3: 잔액내용
A4: 활동지원사업 | B4: 활동지원사업 | C4: 국민은행 | D4: 487101-01-467334 | E4: 232151142 | F4: 363541528 | G4: NO.1 | H4: 이월사업비
C5: 합 계 | E5: =SUM(E4:E4) -> 232151142 | F5: =F4 -> 363541528

Sheet 통장잔액 
A1: 4) 증빙서류
A2: 가. 통장잔액

Sheet 4)-나 퇴직적립금현황
A1: 나.퇴직적립금 현황
A3: 1) 국민은행 퇴직연금DC형으로 관리함.

Sheet 2 과목전용조서
A1: 2. 과목전용조서
A2: (2024년) | B2: 해당사항없음 | J2: (단위 :원)
A3: 과 목 | D3: 전 용 연월일 | E3: 예산액(1) | F3: 전용액(2) | G3: 예산현액 (1)+(2)=(3) | H3: 지출액 | I3: 불용액 | J3: 전용 사유
A4: 관 | B4: 항 | C4: 목
E5: 해 | F5: 당 | G5: 없 | H5: 음
C9: 합계 | E9: =SUM(E5:E8) -> 0 | F9: =SUM(F5:F8) -> 0 | G9: =SUM(G5:G8) -> 0 | H9: =SUM(H5:H8) -> 0 | I9: =SUM(I5:I8) -> 0
A12: 과목전용조서 작성 요령
A13: 1. 과목전용조서에 기록하는 내용은 이사회때 보고한 추경사항 이외에 목간 변경된 사항에 대해서만 작성하면 됨.
A14: 2. 전용연월일은 실제 사용예산중에 예산을 초과한 날짜를 기록하면 됨.
A15: 3. 불용액이라는 것은 실제로 사용하지 않고 남는 금액을 기록

Sheet 3 예비비사용
A1: 3. 예비비 사용조서
A2: (2024년) | E2: (단위 : 원)
A3: 사용일자 | B3: 금 액 | C3: 사 유 | D3: 사용내역 | E3: 비 고
A9: 합계 | B9: =SUM(B4:B8) -> 0

Sheet 4 기본재산
A1: 4. 기본재산 수입명세서
A2: (2024년) | E2: (단위 : 원)
A3: 재산종류 | B3: 수 량 | C3: 평가액 | D3: 수입액 | E3: 산출기초 | F3: 운영방법
C5: 해당사항 없음

Sheet 5 사업수입
A1: 5. 사업수입 명세서
A2: (2024년) | F2: (단위 :원)
A3: 구 분 | B3: 내 역 | C3: 금 액 | D3: 세부산출내역 | F3: 비 고
A4: 사업수입 | B4: 활동지원 | C4: =E9 -> 4707854210 | D4: 국비 | E4: 4104450993
D5: 시도구비 | E5: 280687240
D6: 구비추가 | E6: 99179690
D7: 본인부담금 | E7: 69096287
D8: 중증장애인가산수당 | E8: 154440000
A9: 합계 | E9: =SUM(E4:E8) -> 4707854210
D10: 사회적협동조합 강북나눔돌봄센터

Sheet 6 정부보조금
A1: 6. 정부보조금명세서
A2: (2024년) | E2: (단위 : 원)
A3: 수령일 | B3: 보조구분 | C3: 보조금 내역 | D3: 금 액 | E3: 보조기관 | F3: 산출기초
A10: 합계 | D10: =SUM(D4:D5) -> 0

Sheet 7 후원금 수입 및 사용결과보고서
A1: 7. 후원금 수입명세서 및 사용결과보고서 (해당사항 없음)
F2: (단위 : 원)
A3: 수 입 | D3: 지 출
A4: 내역 | C4: 금액 | D4: 내역 | F4: 금액
C5: 해당없음 | F5: 해당없음
A10: 소 계 | C10: =SUM(C5:C9) -> 0 | D10: 소 계 | F10: =SUM(F5:F9) -> 0
A14: 합 계 | C14: =C10+C13 -> 0 | D14: 합 계 | F14: =SUM(F10:F12) -> 0

Sheet 8 인건비명세서
A1: 8. 인건비 명세서
A2: (2023년) | E2: (단위 : 원)
A3: 구분 | B3: 내용 | C3: 금액 | D3: 산출내역 | E3: 비고
A4: 인건비 | B4: 기본급 | C4: ='1) 세입세출 총괄'!K9 -> 2706856046 | D4: 대표자, 관리책임자1명, 전담인력2명 활동보조인181명 (12월 기준)
B5: 제수당 | C5: ='1) 세입세출 총괄'!K10 -> 1173024883 | D5: 주휴, 연차, 야간, 휴일 가산, 식대, 유급휴일, 근로자의날, 중증가산
B6: 퇴직적립금 | C6: ='1) 세입세출 총괄'!K11 -> 308541640 | D6: 국민은행 퇴직연금DC형
B7: 4대보험부담금 | C7: ='1) 세입세출 총괄'!K12 -> 280928080 | D7: ※5대보험 :국민건강보험,장기요양보험,국민연금,고용보험·산재보험 사업자부담
A8: 합계 | C8: =SUM(C4:C7) -> 4469350649

Sheet 9 사업비
A1: 9. 사업비 명세서
A2: (2024년도) | E2: (단위:원)
A3: 구분 | B3: 내용 | C3: 금액 | D3: 산출내역 | E3: 비고
B4: 이용자복리증진 | C4: 9960677 | D4: 이용현장방문 다과구입 명절선물구입 이용자나들이 장애인의날 기념품
A5: 합 계 | D5: =C4 -> 9960677

Sheet 10 기타비용
A1: 10.기타비용명세서
E2: (단위:원)
A3: 구분 | B3: 내역 | C3: 금액 | D3: 산출내역 | E3: 비고
A4: 업무추진비 | B4: 기관운영및회의비 | C4: ='1) 세입세출 총괄'!K13 -> 4180761 | D4: 각종회의 음료 및 다과
D5: 이사회/부문위원회/운영위원회 수당등
D6: 한국돌봄협동조합 조합비, 강북활동지원기관협의회등 네크워크사업비
A7: 운영비 | B7: 여비 | C7: ='1) 세입세출 총괄'!K17 -> 150000 | D7: 이용자현장방문관련 전담인력 교통카드 충전
B8: 수용비 및 수수료 | C8: ='1) 세입세출 총괄'!K18 -> 17612613 | D8: 청소관리비. 복사기등 렌탈 임차료, 퇴직연금신탁수수료, 운송비, 보안경비수수료,승강기수수료
D9: 사무및소모품비 (복사용지, 파일. 쓰레기봉투, 비치용커피, 화장지등)
D10: 23년도 법인세무조정료, 등기변경수수료
D11: 등기부등본및인감발급수수료
D12: 명함제작, 총회자료집 제작
B13: 공공요금및세금과금 | C13: ='1) 세입세출 총괄'!K19 -> 11427605 | D13: 활동보조 단말기 통신요금
D14: 도시가스,전기세,수도세
D15: 배상,상해보험료, 자동차세
D16: 건물토지 재산세
D17: 법인등기변경 세금
B18: 차량비 | C18: ='1) 세입세출 총괄'!K20 -> 728409 | D18: 사무용차량 주유및수리비
B19: 기타운영비 | C19: ='1) 세입세출 총괄'!K21 -> 48503230 | D19: 직원복리후생비(명절상품권,경조비,동아리지원금,실무자식대지원독감예방접종,약물검사등)
A20: 재산조성비 | B20: 자산취득비 | C20: ='1) 세입세출 총괄'!K24 -> 500000 | D20: 컴퓨터구입
B21: 시설장비 유지비 | C21: ='1) 세입세출 총괄'!K25 -> 618750
A22: 예비비및기타 | B22: 잡지출 | C22: ='1) 세입세출 총괄'!K30 -> 18733910 | D22: 활동지원 실습지도비, 반환금등
A23: 합 계 | C23: =SUM(C4:C22) -> 102455278
D24: 사회적협동조합강북나눔돌봄센터
